BEGIN:VCALENDAR
VERSION:2.0
PRODID:-//Marie Johnna Dalrymple - ECPv6.15.20//NONSGML v1.0//EN
CALSCALE:GREGORIAN
METHOD:PUBLISH
X-WR-CALNAME:Marie Johnna Dalrymple
X-ORIGINAL-URL:https://mariejohnna.com
X-WR-CALDESC:Events for Marie Johnna Dalrymple
REFRESH-INTERVAL;VALUE=DURATION:PT1H
X-Robots-Tag:noindex
X-PUBLISHED-TTL:PT1H
BEGIN:VTIMEZONE
TZID:America/Chicago
BEGIN:DAYLIGHT
TZOFFSETFROM:-0600
TZOFFSETTO:-0500
TZNAME:CDT
DTSTART:20240310T080000
END:DAYLIGHT
BEGIN:STANDARD
TZOFFSETFROM:-0500
TZOFFSETTO:-0600
TZNAME:CST
DTSTART:20241103T070000
END:STANDARD
BEGIN:DAYLIGHT
TZOFFSETFROM:-0600
TZOFFSETTO:-0500
TZNAME:CDT
DTSTART:20250309T080000
END:DAYLIGHT
BEGIN:STANDARD
TZOFFSETFROM:-0500
TZOFFSETTO:-0600
TZNAME:CST
DTSTART:20251102T070000
END:STANDARD
BEGIN:DAYLIGHT
TZOFFSETFROM:-0600
TZOFFSETTO:-0500
TZNAME:CDT
DTSTART:20260308T080000
END:DAYLIGHT
BEGIN:STANDARD
TZOFFSETFROM:-0500
TZOFFSETTO:-0600
TZNAME:CST
DTSTART:20261101T070000
END:STANDARD
END:VTIMEZONE
BEGIN:VEVENT
DTSTART;TZID=America/Chicago:20250726T160000
DTEND;TZID=America/Chicago:20250726T200000
DTSTAMP:20260423T005853
CREATED:20250725T140257Z
LAST-MODIFIED:20250725T141030Z
UID:375-1753545600-1753560000@mariejohnna.com
SUMMARY:Perfect Day books
DESCRIPTION:Meet the owners of the Perfect Day Books mobile bookshop @ Jitterbug coffee house. There will be vendors\, poetry reading\, and live music.  Support local business <3 \n\n\n\n2050 N 12th Ave\, Pensacola\, FL 32503
URL:https://mariejohnna.com/event/perfect-day-books/
LOCATION:Florida
END:VEVENT
BEGIN:VEVENT
DTSTART;TZID=America/Chicago:20250627T160000
DTEND;TZID=America/Chicago:20250627T210000
DTSTAMP:20260423T005853
CREATED:20250627T214631Z
LAST-MODIFIED:20250627T214659Z
UID:294-1751040000-1751058000@mariejohnna.com
SUMMARY:Our House - Local Event
DESCRIPTION:The Undergrowth Presents ‘Our House’\, hosted at the Henry House.06/27/2025 4-9PM \n\n\n\nA DIY Art Exhibition celebrating reciprocity in community. Proceeds donated to Strive Pensacola and The Middle East Childrens Alliance. \n\n\n\n@the.undergrowth Instagram for more details.
URL:https://mariejohnna.com/event/our-house-local-event/
LOCATION:Florida
END:VEVENT
END:VCALENDAR