BEGIN:VCALENDAR
VERSION:2.0
PRODID:-//Marie Johnna Dalrymple - ECPv6.15.20//NONSGML v1.0//EN
CALSCALE:GREGORIAN
METHOD:PUBLISH
X-ORIGINAL-URL:https://mariejohnna.com
X-WR-CALDESC:Events for Marie Johnna Dalrymple
REFRESH-INTERVAL;VALUE=DURATION:PT1H
X-Robots-Tag:noindex
X-PUBLISHED-TTL:PT1H
BEGIN:VTIMEZONE
TZID:America/Chicago
BEGIN:DAYLIGHT
TZOFFSETFROM:-0600
TZOFFSETTO:-0500
TZNAME:CDT
DTSTART:20240310T080000
END:DAYLIGHT
BEGIN:STANDARD
TZOFFSETFROM:-0500
TZOFFSETTO:-0600
TZNAME:CST
DTSTART:20241103T070000
END:STANDARD
BEGIN:DAYLIGHT
TZOFFSETFROM:-0600
TZOFFSETTO:-0500
TZNAME:CDT
DTSTART:20250309T080000
END:DAYLIGHT
BEGIN:STANDARD
TZOFFSETFROM:-0500
TZOFFSETTO:-0600
TZNAME:CST
DTSTART:20251102T070000
END:STANDARD
BEGIN:DAYLIGHT
TZOFFSETFROM:-0600
TZOFFSETTO:-0500
TZNAME:CDT
DTSTART:20260308T080000
END:DAYLIGHT
BEGIN:STANDARD
TZOFFSETFROM:-0500
TZOFFSETTO:-0600
TZNAME:CST
DTSTART:20261101T070000
END:STANDARD
BEGIN:DAYLIGHT
TZOFFSETFROM:-0600
TZOFFSETTO:-0500
TZNAME:CDT
DTSTART:20270314T080000
END:DAYLIGHT
BEGIN:STANDARD
TZOFFSETFROM:-0500
TZOFFSETTO:-0600
TZNAME:CST
DTSTART:20271107T070000
END:STANDARD
END:VTIMEZONE
BEGIN:VEVENT
DTSTART;TZID=America/Chicago:20251031T000000
DTEND;TZID=America/Chicago:20251130T235959
DTSTAMP:20260423T042442
CREATED:20251010T190609Z
LAST-MODIFIED:20251029T223952Z
UID:442-1761868800-1764547199@mariejohnna.com
SUMMARY:Cold Magnolia Release
DESCRIPTION:Halloween marks the beginning of the Kickstarter for preorders on ebook or physical prints for the debut novel\, Cold Magnolia by Marie Johnna Dalrymple. \n\n\n\nClick here to view the Kickstarter page!
URL:https://mariejohnna.com/event/cold-magnolia-release/
LOCATION:Florida
ATTACH;FMTTYPE=image/png:https://mariejohnna.com/wp-content/uploads/2025/06/final-mock-up-1-scaled-scaled.png
END:VEVENT
BEGIN:VEVENT
DTSTART;TZID=America/Chicago:20260314T080000
DTEND;TZID=America/Chicago:20260314T140000
DTSTAMP:20260423T042442
CREATED:20260208T162416Z
LAST-MODIFIED:20260208T162725Z
UID:506-1773475200-1773496800@mariejohnna.com
SUMMARY:Triangle Park Arts Market
DESCRIPTION:Join the Navy Point Community to browse unique crafts\, yard sale booths\, and many odds and ends on the second Saturday of the month.  \n\n\n\nI’ll be selling some art and book copies. First market of the year for me!
URL:https://mariejohnna.com/event/triangle-park-arts-market/
LOCATION:Triangle Park\, 315 W Sunset Ave\, Pensacola\, Florida\, 32507\, United States
END:VEVENT
END:VCALENDAR